BEGIN:VCALENDAR
VERSION:2.0
PRODID:KKTIX
CALSCALE:GREGORIAN
METHOD:PUBLISH
BEGIN:VTIMEZONE
TZID:Asia/Taipei
END:VTIMEZONE
BEGIN:VEVENT
DTSTAMP:20260422T183208Z
UID:0d6aa955-2cf9-4c93-b544-780c0bafe5b0
DTSTART:20151026T061000Z
DTEND:20151125T110000Z
CLASS:PUBLIC
DESCRIPTION:https://sccloud.kktix.cc/events/d7afc1b4
LOCATION: ( 高雄市左營區自由三路410號7樓) 尚青雲端整合行
 銷股份有限公司 (自由三路與文瑞路轉角，九大自由診所
 樓上)
SUMMARY:經濟部&資策會《雲端產業服務團》高雄/台中 產業
 雲端升級說明會
END:VEVENT
END:VCALENDAR
