BEGIN:VCALENDAR
VERSION:2.0
PRODID:KKTIX
CALSCALE:GREGORIAN
METHOD:PUBLISH
BEGIN:VTIMEZONE
TZID:Asia/Taipei
END:VTIMEZONE
BEGIN:VEVENT
DTSTAMP:20260422T183207Z
UID:8d6c32a8-b347-4e4b-b4b6-1ffb42735b5f
DTSTART:20151026T061000Z
DTEND:20151127T110000Z
CLASS:PUBLIC
DESCRIPTION:https://sccloud.kktix.cc/events/d7afc1b4-c8c0e6
LOCATION: ( 台中市北區台灣大道二段360號) 亞太雲端大樓，2
 8樓會館
SUMMARY:經濟部&資策會《雲端產業服務團》台中/高雄 產業
 雲端升級說明會
END:VEVENT
END:VCALENDAR
