BEGIN:VCALENDAR
VERSION:2.0
PRODID:KKTIX
CALSCALE:GREGORIAN
METHOD:PUBLISH
BEGIN:VTIMEZONE
TZID:Asia/Taipei
END:VTIMEZONE
BEGIN:VEVENT
DTSTAMP:20260422T183208Z
UID:9eb652ce-903a-4ba8-aea6-b8d907a57f58
DTSTART:20151027T020000Z
DTEND:20151127T130000Z
CLASS:PUBLIC
DESCRIPTION:https://sccloud.kktix.cc/events/2c2b0385
LOCATION: (台中市北區台灣大道二段360號) 亞太雲端大樓，28
 樓會館 
SUMMARY:這樣開店才會賺
END:VEVENT
END:VCALENDAR
